BEGIN:VCALENDAR
VERSION:2.0
PRODID:-//ChamberMaster//Event Calendar 2.0//EN
METHOD:PUBLISH
X-PUBLISHED-TTL:P1H
REFRESH-INTERVAL:P1H
CALSCALE:GREGORIAN
BEGIN:VTIMEZONE
TZID:America/Chicago
BEGIN:DAYLIGHT
RRULE:FREQ=YEARLY;BYMONTH=3;BYDAY=2SU
DTSTART:20070101T000000
TZOFFSETFROM:-0600
TZOFFSETTO:-0500
TZNAME:Central Daylight Time
END:DAYLIGHT
BEGIN:STANDARD
RRULE:FREQ=YEARLY;BYMONTH=11;BYDAY=1SU
DTSTART:20070101T000000
TZOFFSETFROM:-0500
TZOFFSETTO:-0600
TZNAME:Central Standard Time
END:STANDARD
END:VTIMEZONE
BEGIN:VEVENT
DTSTART;TZID=America/Chicago:20260421T000000
DTEND;TZID=America/Chicago:20260505T180000
X-MICROSOFT-CDO-ALLDAYEVENT:FALSE
SUMMARY:Wild Rose Inventory Reduction Online Auction #2
DESCRIPTION:An O'Connor Auction Group Online AuctionWILD ROSE INVENTORY REDUCTIONONLINE AUCTION #2APRIL 21ST - MAY 5TH\nLocation: 505 Main St\, Wild Rose\nAntique & vintage treasures galore! Don't miss this lineup includinga baker's cabinet\, furniture pieces\, trunks\, carnival glass\, depression glass\,jadite\, beer signs\, figurines\, plus many more unique items!\nGo to www.OconnorAuctionGroup.com for more information and to bid!\nHIGHLIGHTED TERMS: 10% buyer's fee plus sales tax added to the final bid price. Full terms listed at www.OconnorAuctionGroup.com.\nO'Connor Auction Group\, State Reg. #44Registered Wisconsin Auctioneers   Gerry O'Connor #260\,Joe O'Connor #2817-52\, Tom O'Connor #2818-5295 S. Main St.\, Clintonville\, WI 54929715-250-2038www.OconnorAuctionGroup.com
X-ALT-DESC;FMTTYPE=text/html:<!DOCTYPE html><html><head><title></title></head><body aria-disabled="false"><p style="text-align: center\;">An O&#39\;Connor Auction Group Online Auction</p><p style="text-align: center\;">WILD ROSE INVENTORY REDUCTION</p><p style="text-align: center\;">ONLINE AUCTION #2</p><p style="text-align: center\;">APRIL 21ST - MAY 5TH</p><p><br></p><p>Location: 505 Main St\, Wild Rose</p><p><br></p><p style="text-align: center\;">Antique &amp\; vintage treasures galore! Don&rsquo\;t miss this lineup including</p><p style="text-align: center\;">a baker&rsquo\;s cabinet\, furniture pieces\, trunks\, carnival glass\, depression glass\,</p><p style="text-align: center\;">jadite\, beer signs\, figurines\, plus many more unique items!</p><p><br></p><p style="text-align: center\;">Go to <a fr-original-style="" href="https://bid.oconnorauctiongroup.com/ui/auctions/159294?category=All&subCategory=Active" rel="noopener noreferrer" style="user-select: auto\;" target="_blank">www.OconnorAuctionGroup.com</a> for more information and to bid!</p><p><br></p><p>HIGHLIGHTED TERMS: 10% buyer&rsquo\;s fee plus sales tax added to the final bid price. Full terms listed at <a fr-original-style="" href="https://bid.oconnorauctiongroup.com/ui/auctions/159294?category=All&subCategory=Active" rel="noopener noreferrer" style="user-select: auto\;" target="_blank">www.OconnorAuctionGroup.com</a>.</p><p><br></p><p style="text-align: center\;">O&rsquo\;Connor Auction Group\, State Reg. #44</p><p style="text-align: center\;">Registered Wisconsin Auctioneers &ndash\; Gerry O&rsquo\;Connor #260\,</p><p style="text-align: center\;">Joe O&rsquo\;Connor #2817-52\, Tom O&rsquo\;Connor #2818-52</p><p style="text-align: center\;">95 S. Main St.\, Clintonville\, WI 54929</p><p style="text-align: center\;">715-250-2038</p><p style="text-align: center\;"><a fr-original-style="" href="https://www.oconnorauctiongroup.com" rel="noopener noreferrer" style="user-select: auto\;" target="_blank">www.OconnorAuctionGroup.com</a></p></body></html>
LOCATION:505 Main St Wild Rose WI 54984
UID:e.3243.1448370
SEQUENCE:3
DTSTAMP:20260425T181320Z
URL:https://business.clintonvillewichamber.com/events/Details/wild-rose-inventory-reduction-online-auction-2-1715370?sourceTypeId=Hub
END:VEVENT
END:VCALENDAR
