BEGIN:VCALENDAR
VERSION:2.0
PRODID:-//ChamberMaster//Event Calendar 2.0//EN
METHOD:PUBLISH
X-PUBLISHED-TTL:P1H
REFRESH-INTERVAL:P1H
CALSCALE:GREGORIAN
BEGIN:VTIMEZONE
TZID:America/Chicago
BEGIN:DAYLIGHT
RRULE:FREQ=YEARLY;BYMONTH=3;BYDAY=2SU
DTSTART:20070101T000000
TZOFFSETFROM:-0600
TZOFFSETTO:-0500
TZNAME:Central Daylight Time
END:DAYLIGHT
BEGIN:STANDARD
RRULE:FREQ=YEARLY;BYMONTH=11;BYDAY=1SU
DTSTART:20070101T000000
TZOFFSETFROM:-0500
TZOFFSETTO:-0600
TZNAME:Central Standard Time
END:STANDARD
END:VTIMEZONE
BEGIN:VEVENT
DTSTART;TZID=America/Chicago:20260416T000000
DTEND;TZID=America/Chicago:20260430T180000
X-MICROSOFT-CDO-ALLDAYEVENT:FALSE
SUMMARY:"No Udder Cattle" Machinery Online Auction
DESCRIPTION:An O'Connor Auction Group Online Auction\n"NO UDDER CATTLE" MACHINERY AUCTIONNEW LONDONAPR 16TH   APR 30TH\nLOCATION: E7758 Allen Rd\, New London\n(2) GRAIN TRUCKS\, (4) TRACTORS\, COMBINE W/ATTACHMENTS\,DRAGS\, CHOPPERS\, PLANTERS\, MANURE SPREADER\,GRAVITY BOXES\, WAGONS\, AND MORE!\nGO TO www.OconnorAuctionGroup.com FOR MORE INFORMATIONAND TO GET THE O'CONNOR AUCTION GROUP PHONE APP!\nHIGHLIGHTED TERMS: 10% buyer's fee plus sales tax added to the final bid price. Full terms listed at www.OconnorAuctionGroup.com.\nO'Connor Auction Group\, State Reg. #44Registered Wisconsin Auctioneers   Gerry O'Connor #260\,Joe O'Connor #2817-52\, Tom O'Connor #2818-5295 S. Main St.\, Clintonville\, WI 54929www.OconnorAuctionGroup.com    715-250-2038
X-ALT-DESC;FMTTYPE=text/html:<!DOCTYPE html><html><head><title></title></head><body aria-disabled="false"><p style="text-align: center\;">An O&rsquo\;Connor Auction Group Online Auction</p><p style="text-align: center\;"><br></p><p style="text-align: center\;">&ldquo\;NO UDDER CATTLE&rdquo\; MACHINERY AUCTION</p><p style="text-align: center\;">NEW LONDON</p><p style="text-align: center\;">APR 16TH &ndash\; APR 30TH</p><p><br></p><p>LOCATION: E7758 Allen Rd\, New London</p><p><br></p><p style="text-align: center\;">(2) GRAIN TRUCKS\, (4) TRACTORS\, COMBINE W/ATTACHMENTS\,</p><p style="text-align: center\;">DRAGS\, CHOPPERS\, PLANTERS\, MANURE SPREADER\,</p><p style="text-align: center\;">GRAVITY BOXES\, WAGONS\, AND MORE!</p><p style="text-align: center\;"><br></p><p style="text-align: center\;">GO TO <a fr-original-style="" href="https://bid.oconnorauctiongroup.com/ui/auctions/156259" rel="noopener noreferrer" style="user-select: auto\;" target="_blank">www.OconnorAuctionGroup.com</a> FOR MORE INFORMATION</p><p style="text-align: center\;">AND TO GET THE O&rsquo\;CONNOR AUCTION GROUP PHONE APP!</p><p><br></p><p>HIGHLIGHTED TERMS: 10% buyer&rsquo\;s fee plus sales tax added to the final bid price. Full terms listed at <a fr-original-style="" href="https://bid.oconnorauctiongroup.com/ui/auctions/156259" rel="noopener noreferrer" style="user-select: auto\;" target="_blank">www.OconnorAuctionGroup.com</a>.</p><p><br></p><p style="text-align: center\;">O&rsquo\;Connor Auction Group\, State Reg. #44</p><p style="text-align: center\;">Registered Wisconsin Auctioneers &ndash\; Gerry O&rsquo\;Connor #260\,</p><p style="text-align: center\;">Joe O&rsquo\;Connor #2817-52\, Tom O&rsquo\;Connor #2818-52</p><p style="text-align: center\;">95 S. Main St.\, Clintonville\, WI 54929</p><p style="text-align: center\;"><a fr-original-style="" href="https://www.oconnorauctiongroup.com" rel="noopener noreferrer" style="user-select: auto\;" target="_blank">www.OconnorAuctionGroup.com</a> &nbsp\; &nbsp\;715-250-2038</p></body></html>
LOCATION:E7758 Allen Rd New London WI 54961
UID:e.3243.1445569
SEQUENCE:3
DTSTAMP:20260425T181319Z
URL:https://business.clintonvillewichamber.com/events/Details/no-udder-cattle-machinery-online-auction-1712186?sourceTypeId=Hub
END:VEVENT
END:VCALENDAR
